BEGIN:VCALENDAR
VERSION:2.0
PRODID:-//Aivovammaliitto - ECPv6.15.17.1//NONSGML v1.0//EN
CALSCALE:GREGORIAN
METHOD:PUBLISH
X-ORIGINAL-URL:https://aivovammaliitto.fi
X-WR-CALDESC:Tapahtumat Aivovammaliitto
REFRESH-INTERVAL;VALUE=DURATION:PT1H
X-Robots-Tag:noindex
X-PUBLISHED-TTL:PT1H
BEGIN:VTIMEZONE
TZID:Europe/Helsinki
BEGIN:DAYLIGHT
TZOFFSETFROM:+0200
TZOFFSETTO:+0300
TZNAME:EEST
DTSTART:20250330T010000
END:DAYLIGHT
BEGIN:STANDARD
TZOFFSETFROM:+0300
TZOFFSETTO:+0200
TZNAME:EET
DTSTART:20251026T010000
END:STANDARD
BEGIN:DAYLIGHT
TZOFFSETFROM:+0200
TZOFFSETTO:+0300
TZNAME:EEST
DTSTART:20260329T010000
END:DAYLIGHT
BEGIN:STANDARD
TZOFFSETFROM:+0300
TZOFFSETTO:+0200
TZNAME:EET
DTSTART:20261025T010000
END:STANDARD
BEGIN:DAYLIGHT
TZOFFSETFROM:+0200
TZOFFSETTO:+0300
TZNAME:EEST
DTSTART:20270328T010000
END:DAYLIGHT
BEGIN:STANDARD
TZOFFSETFROM:+0300
TZOFFSETTO:+0200
TZNAME:EET
DTSTART:20271031T010000
END:STANDARD
END:VTIMEZONE
BEGIN:VEVENT
DTSTART;VALUE=DATE:20261026
DTEND;VALUE=DATE:20261031
DTSTAMP:20260424T172319
CREATED:20251211T113312Z
LAST-MODIFIED:20260401T100654Z
UID:21902-1792972800-1793404799@aivovammaliitto.fi
SUMMARY:26.-30.10.2026\, Sopeutumisvalmennuskurssi - väsyvyys\, voimavarat ja hyvinvointi\, kylpylähotelli Rauhalahti\, Kuopio. Aivovammakurssi.
DESCRIPTION:Ohjelmassa myös neuropsykologin luento ja keskustelu \nAika: 26.-30.10.2026 \nPaikka: Kylpylähotelli Rauhalahti\, Kuopio. www.rauhalahti.fi \nHaku: 11.9.2026 mennessä \nLinkki hakulomakkeelle \nKurssi on tarkoitettu aivovamman saaneille henkilöille\, joiden vammautumisesta on vähintään kolme vuotta ja jotka haluavat saada uusia keinoja vamman kanssa elämiseen. Kurssilla annetaan asiantuntijatietoa väsyvyysoireista ja etsitään yhdessä keinoja vahvistaa toimintakykyä ja hyvinvointia. Tavoitteena on oppia tunnistamaan oma väsyvyys\, löytää keinoja tulla paremmin toimeen oireiden kanssa ja vahvistaa omia voimavaroja. Kurssille voi osallistua yhdessä läheisen kanssa. \nTälle kurssille tarvitset maksusitoumuksen.
URL:https://aivovammaliitto.fi/tapahtuma/sopeutumisvalmennuskurssi-vasyvyys-voimavarat-ja-hyvinvointi/
LOCATION:Kylpylähotelli Rauhalahti\, Katiskaniementie 8\, Kuopio\, 70700
ORGANIZER;CN="Aivovammaliitto ry":MAILTO:tiedotus@aivovammaliitto.fi
END:VEVENT
END:VCALENDAR