BEGIN:VCALENDAR
VERSION:2.0
PRODID:-//Aivovammaliitto - ECPv6.15.17.1//NONSGML v1.0//EN
CALSCALE:GREGORIAN
METHOD:PUBLISH
X-ORIGINAL-URL:https://aivovammaliitto.fi
X-WR-CALDESC:Tapahtumat Aivovammaliitto
REFRESH-INTERVAL;VALUE=DURATION:PT1H
X-Robots-Tag:noindex
X-PUBLISHED-TTL:PT1H
BEGIN:VTIMEZONE
TZID:Europe/Helsinki
BEGIN:DAYLIGHT
TZOFFSETFROM:+0200
TZOFFSETTO:+0300
TZNAME:EEST
DTSTART:20250330T010000
END:DAYLIGHT
BEGIN:STANDARD
TZOFFSETFROM:+0300
TZOFFSETTO:+0200
TZNAME:EET
DTSTART:20251026T010000
END:STANDARD
BEGIN:DAYLIGHT
TZOFFSETFROM:+0200
TZOFFSETTO:+0300
TZNAME:EEST
DTSTART:20260329T010000
END:DAYLIGHT
BEGIN:STANDARD
TZOFFSETFROM:+0300
TZOFFSETTO:+0200
TZNAME:EET
DTSTART:20261025T010000
END:STANDARD
BEGIN:DAYLIGHT
TZOFFSETFROM:+0200
TZOFFSETTO:+0300
TZNAME:EEST
DTSTART:20270328T010000
END:DAYLIGHT
BEGIN:STANDARD
TZOFFSETFROM:+0300
TZOFFSETTO:+0200
TZNAME:EET
DTSTART:20271031T010000
END:STANDARD
END:VTIMEZONE
BEGIN:VEVENT
DTSTART;VALUE=DATE:20260803
DTEND;VALUE=DATE:20260808
DTSTAMP:20260424T133319
CREATED:20260323T074056Z
LAST-MODIFIED:20260401T101120Z
UID:22712-1785715200-1786147199@aivovammaliitto.fi
SUMMARY:3-7.8.2026 Perheiden voimavarakurssi\, Ruissalon kylpylä. AVH-kurssi.
DESCRIPTION:Kurssi on tarkoitettu lapsiperheille\, joissa vanhempi on sairastanut AVH:n \nOta tauko arjesta ja pysähdy perheen asioiden äärelle. Kurssin tavoitteena on tiedon ja ymmärryksen lisääminen siitä\, miten vanhemman sairastuminen vaikuttaa koko perheeseen. \nTarkoituksena on vahvistaa perheen vuorovaikutusta ja auttaa löytämään tapoja toimia yhdessä. \nKurssilla on omaa ohjelmaa sekä vanhemmille että lapsille/nuorille. Kurssilla käsiteltäviä teemoja lähestytään lasten ikätasoa vastaavalla tavalla. \nKurssiin kuuluu luentoja ja keskustelutuokioita\, joiden aikana perheen lastenhoito on järjestetty. \nKurssilla on myös paljon perheen yhteistä kivaa toimintaa. \nHae kurssille tästä linkistä
URL:https://aivovammaliitto.fi/tapahtuma/perheiden-voimavarakurssi-3-7-8-2026/
LOCATION:Ruissalo Spa & Hotel\, Ruissalon puistotie 640\, Turku\, 20100
ORGANIZER;CN="Aivovammaliitto ry":MAILTO:tiedotus@aivovammaliitto.fi
END:VEVENT
END:VCALENDAR