BEGIN:VCALENDAR
VERSION:2.0
PRODID:-//Aivovammaliitto - ECPv6.15.17.1//NONSGML v1.0//EN
CALSCALE:GREGORIAN
METHOD:PUBLISH
X-WR-CALNAME:Aivovammaliitto
X-ORIGINAL-URL:https://aivovammaliitto.fi
X-WR-CALDESC:Tapahtumat Aivovammaliitto
REFRESH-INTERVAL;VALUE=DURATION:PT1H
X-Robots-Tag:noindex
X-PUBLISHED-TTL:PT1H
BEGIN:VTIMEZONE
TZID:Europe/Helsinki
BEGIN:DAYLIGHT
TZOFFSETFROM:+0200
TZOFFSETTO:+0300
TZNAME:EEST
DTSTART:20250330T010000
END:DAYLIGHT
BEGIN:STANDARD
TZOFFSETFROM:+0300
TZOFFSETTO:+0200
TZNAME:EET
DTSTART:20251026T010000
END:STANDARD
BEGIN:DAYLIGHT
TZOFFSETFROM:+0200
TZOFFSETTO:+0300
TZNAME:EEST
DTSTART:20260329T010000
END:DAYLIGHT
BEGIN:STANDARD
TZOFFSETFROM:+0300
TZOFFSETTO:+0200
TZNAME:EET
DTSTART:20261025T010000
END:STANDARD
BEGIN:DAYLIGHT
TZOFFSETFROM:+0200
TZOFFSETTO:+0300
TZNAME:EEST
DTSTART:20270328T010000
END:DAYLIGHT
BEGIN:STANDARD
TZOFFSETFROM:+0300
TZOFFSETTO:+0200
TZNAME:EET
DTSTART:20271031T010000
END:STANDARD
END:VTIMEZONE
BEGIN:VEVENT
DTSTART;VALUE=DATE:20261110
DTEND;VALUE=DATE:20261114
DTSTAMP:20260424T185041
CREATED:20260326T075744Z
LAST-MODIFIED:20260401T074835Z
UID:22776-1794268800-1794614399@aivovammaliitto.fi
SUMMARY:10 – 13.11.2026 Uupumus- ja voimavarakurssi\, Imatran kylpylä. AVH-kurssi.
DESCRIPTION:Aika: 10 – 13.11.2026 \nPaikka: Imatran kylpylä Purjekuja 2\, Imatra \nHaku: päättyy 2.10.2026 \nLinkki hakulomakkeelle \nKenelle tarkoitettu: Yli vuosi sitten AVH:n sairastaneille työikäisille \nTarvitsetko apua AVH:n aiheuttamien uupumusoireiden hallintaan? \nKurssilta saat tietoa uupumusoireesta ja tutustut sen hallintakeinoihin arjessa. Saat myös vertaistukea muilta saman kokeneilta työikäisiltä. \nKurssiohjelma koostuu toiminnallisten ryhmien lisäksi keskusteluryhmistä ja luennoista sekä rentoutusharjoittelusta. \nMajoitus tapahtuu yhden hengen huoneissa. \nKurssille valitaan 10 omatoimista työikäistä henkilöä\, jotka eivät tarvitse avustusta päivittäisissä toimissaan. \nKurssi kestää 4 päivää.
URL:https://aivovammaliitto.fi/tapahtuma/10-13-11-2026-uupumus-ja-voimavarakurssi-imatran-kylpyla/
LOCATION:Imatran kylpylä\, Purjekuja 2\, Imatra\, 55420
ORGANIZER;CN="Aivovammaliitto ry":MAILTO:tiedotus@aivovammaliitto.fi
END:VEVENT
END:VCALENDAR