BEGIN:VCALENDAR
VERSION:2.0
PRODID:-//Aivovammaliitto - ECPv6.15.17.1//NONSGML v1.0//EN
CALSCALE:GREGORIAN
METHOD:PUBLISH
X-WR-CALNAME:Aivovammaliitto
X-ORIGINAL-URL:https://aivovammaliitto.fi
X-WR-CALDESC:Tapahtumat Aivovammaliitto
REFRESH-INTERVAL;VALUE=DURATION:PT1H
X-Robots-Tag:noindex
X-PUBLISHED-TTL:PT1H
BEGIN:VTIMEZONE
TZID:Europe/Helsinki
BEGIN:DAYLIGHT
TZOFFSETFROM:+0200
TZOFFSETTO:+0300
TZNAME:EEST
DTSTART:20250330T010000
END:DAYLIGHT
BEGIN:STANDARD
TZOFFSETFROM:+0300
TZOFFSETTO:+0200
TZNAME:EET
DTSTART:20251026T010000
END:STANDARD
BEGIN:DAYLIGHT
TZOFFSETFROM:+0200
TZOFFSETTO:+0300
TZNAME:EEST
DTSTART:20260329T010000
END:DAYLIGHT
BEGIN:STANDARD
TZOFFSETFROM:+0300
TZOFFSETTO:+0200
TZNAME:EET
DTSTART:20261025T010000
END:STANDARD
BEGIN:DAYLIGHT
TZOFFSETFROM:+0200
TZOFFSETTO:+0300
TZNAME:EEST
DTSTART:20270328T010000
END:DAYLIGHT
BEGIN:STANDARD
TZOFFSETFROM:+0300
TZOFFSETTO:+0200
TZNAME:EET
DTSTART:20271031T010000
END:STANDARD
END:VTIMEZONE
BEGIN:VEVENT
DTSTART;VALUE=DATE:20260626
DTEND;VALUE=DATE:20260629
DTSTAMP:20260422T221127
CREATED:20260323T082306Z
LAST-MODIFIED:20260401T101210Z
UID:22708-1782432000-1782691199@aivovammaliitto.fi
SUMMARY:26.-28.6.2026 Työikäisten viikonloppu ja 1 x verkkotapaaminen\, Ruissalon Kylpylä. AVH-kurssi.
DESCRIPTION:Kurssi on tarkoitettu AVH:n sairastaneille omatoimisille työikäisille \nTule viettämään mukava viikonloppu muiden AVH-vertaisten kanssa. Kurssin tavoitteena on tunnistaa omia voimavaroja ja saada välineitä omaan jaksamiseen. Vertaistuki mahdollistuu pienryhmissä\, yhteisessä toiminnassa ja illanvietoissa. Muiden samassa tilanteessa olevien työikäisten kohtaaminen ja kokemusten vaihtaminen vahvistavat luottamusta arjessa selviytymiseen. \nKurssille valitaan 10 omatoimista työikäistä henkilöä\, jotka eivät tarvitse avustusta päivittäisissä toimissaan. \nHae kurssille tästä linkistä \n 
URL:https://aivovammaliitto.fi/tapahtuma/26-28-6-2026-tyoikaisten-viikonloppu-ja-1-x-verkkotapaaminen-ruissalon-kylpyla/
LOCATION:Ruissalo Spa & Hotel\, Ruissalon puistotie 640\, Turku\, 20100
ORGANIZER;CN="Aivovammaliitto ry":MAILTO:tiedotus@aivovammaliitto.fi
END:VEVENT
END:VCALENDAR