BEGIN:VCALENDAR
VERSION:2.0
PRODID:-//Aivovammaliitto - ECPv6.15.17.1//NONSGML v1.0//EN
CALSCALE:GREGORIAN
METHOD:PUBLISH
X-WR-CALNAME:Aivovammaliitto
X-ORIGINAL-URL:https://aivovammaliitto.fi
X-WR-CALDESC:Tapahtumat Aivovammaliitto
REFRESH-INTERVAL;VALUE=DURATION:PT1H
X-Robots-Tag:noindex
X-PUBLISHED-TTL:PT1H
BEGIN:VTIMEZONE
TZID:Europe/Helsinki
BEGIN:DAYLIGHT
TZOFFSETFROM:+0200
TZOFFSETTO:+0300
TZNAME:EEST
DTSTART:20250330T010000
END:DAYLIGHT
BEGIN:STANDARD
TZOFFSETFROM:+0300
TZOFFSETTO:+0200
TZNAME:EET
DTSTART:20251026T010000
END:STANDARD
BEGIN:DAYLIGHT
TZOFFSETFROM:+0200
TZOFFSETTO:+0300
TZNAME:EEST
DTSTART:20260329T010000
END:DAYLIGHT
BEGIN:STANDARD
TZOFFSETFROM:+0300
TZOFFSETTO:+0200
TZNAME:EET
DTSTART:20261025T010000
END:STANDARD
BEGIN:DAYLIGHT
TZOFFSETFROM:+0200
TZOFFSETTO:+0300
TZNAME:EEST
DTSTART:20270328T010000
END:DAYLIGHT
BEGIN:STANDARD
TZOFFSETFROM:+0300
TZOFFSETTO:+0200
TZNAME:EET
DTSTART:20271031T010000
END:STANDARD
END:VTIMEZONE
BEGIN:VEVENT
DTSTART;VALUE=DATE:20260408
DTEND;VALUE=DATE:20260507
DTSTAMP:20260422T202104
CREATED:20251211T110811Z
LAST-MODIFIED:20260401T101504Z
UID:21886-1775606400-1778111999@aivovammaliitto.fi
SUMMARY:8.-10.4.2026 ja 4.-6.5.2026\, Liikuntakurssi\, Liikuntakeskus Pajulahti\, Nastola. Aivovammakurssi.
DESCRIPTION:Aika: Kaksiosainen kurssi\, 8.-10.4.2026 ja 4.-6.5.2026 \nPaikka: Liikuntakeskus Pajulahti\, Nastola. www.pajulahti.com \nHaku: 27.2.2026 mennessä \nLinkki hakemuslomakkeelle \nKurssi on suunnattu aivovamman saaneille henkilöille\, joiden vammautumisesta on ainakin kaksi vuotta ja jotka haluavat edistää hyvinvointiaan liikunnan kautta. Kurssilla saadaan asiantuntijatietoa\, käydään ryhmäkeskusteluja sekä kokeillaan yhdessä erilaisia lajeja. Tavoitteena on löytää liikunnan ja tekemisen ilo hyvinvoinnin tukena.
URL:https://aivovammaliitto.fi/tapahtuma/liikuntakurssi-8-10-4-2026-ja-4-6-5-2026/
LOCATION:Liikuntakeskus Pajulahti\, Pajulahdentie 167\, Nastola\, 15560
ORGANIZER;CN="Aivovammaliitto ry":MAILTO:tiedotus@aivovammaliitto.fi
END:VEVENT
BEGIN:VEVENT
DTSTART;TZID=Europe/Helsinki:20260425T140000
DTEND;TZID=Europe/Helsinki:20260425T163000
DTSTAMP:20260422T202104
CREATED:20260318T151655Z
LAST-MODIFIED:20260323T123420Z
UID:22645-1777125600-1777134600@aivovammaliitto.fi
SUMMARY:25.4.2026 klo 14–16:30: Aivovappu-tapahtuma\, Tavana Pihlaja\, Vantaa
DESCRIPTION:Kaipaatko yhteisöllistä\, rentoa ohjelmaa ja vertaistesi kohtaamista vapun kynnyksellä? Onko sinulla tai läheiselläsi aivovamma\, aivoverenkiertohäiriö tai muu aivovaurio? \nLämpimästi tervetuloa Aivovappu- tapahtumaan lauantaina 25.4. klo 14–16:30! Tapahtuma järjestetään Tavana Pihlajan tiloissa Vantaan Tikkurilassa. Aivovappu-tapahtuma on suunnattu 18–35-vuotiaille\, Uudellamaalla asuville aivovammautuneille\, aivoverenkiertohäiriön sairastaneille tai muun aivovaurion kokeneille sekä heidän läheisilleen. \nTapahtumassa pääset kohtaamaan vertaisiasi\, toteuttamaan oman teoksesi taidepajassa\, osallistumaan yhteislauluihin sekä nauttimaan vapputeemaisista tarjoiluista. Lisäksi läheiset pääsevät tutustumaan toisiinsa. Aivovappu-tapahtuma on maksuton\, emmekä pyydä ennakkoilmoittautumista. Tapahtuma järjestetään yhteistyössä Tavana Pihlajan (Aspa Palvelut) kanssa. \nOhjelmassa: \n\nVapputeemaisia tarjoiluja\, kuten simaa ja munkkia\nAkryylikaato-taidepaja\nYhteislauluja\nVertaisten kohtaamista sekä vapputunnelmasta nauttimista\nHalutessasi pääset kuulemaan lisää Aivovammaliiton ja Tavana Pihlajan toiminnasta\n\nKaikkiin toimintoihin osallistuminen on täysin vapaaehtoista. Huomaathan\, että tarjoiluja on varattu rajoitetusti. Lämpimästi tervetuloa nauttimaan vapputunnelmasta kanssamme! \nMitä? Aivovappu-tapahtuma – rentoa vappuohjelmaa ja vertaisten kohtaamista\nMilloin? Lauantaina 25.4. klo 14–16:30\, voit tulla ja mennä omien aikataulujesi mukaan\nMissä? Tavana Pihlajan tiloissa Vantaan Tikkurilassa. Osoite: Veturikuja 7 E\, 01300 Vantaa\nKenelle? Tapahtuma on suunnattu 18–35-vuotiaille\, Uudellamaalla asuville aivovammautuneille\, aivoverenkiertohäiriön sairastaneille tai muun aivovaurion kokeneille sekä heidän läheisilleen.\nOsallistuminen: Tapahtuma on maksuton\, emmekä pyydä ennakkoilmoittautumista\nSaapuminen: Tavana Pihlaja sijaitsee noin kuuden minuutin (450 m) kävelyetäisyyden päässä Tikkurilan juna-asemalta. Lähimmät bussipysäkit ovat esim. Tikkurila pohjoinen terminaali ja Vaihdepolku\, jotka sijaitsevat 4–5 minuutin (300–350 m) kävelyetäisyyden päässä. Juna-asemalta sekä bussipysäkeiltä on esteetön kulku tapahtumapaikalle. Myös tapahtumapaikka on esteetön. Löydät Tavana Pihlajan Google Maps-kartalta tästä linkistä. \nLue lisää:\nTapahtuman Facebook-sivu\nTavana Pihlajan verkkosivut\n \nLisätietoa tapahtumasta:\nKatriina Hoikkala / Aivovammaliitto\nkatriina.hoikkala(at)aivovammaliitto.fi\npuh. 044 9025 730 \nJenni Vilenius / Tavana Pihlaja\njenni.vilenius(at)tavana.fi\npuh. 050 373 9074
URL:https://aivovammaliitto.fi/tapahtuma/25-4-2026-klo-14-1630-aivovappu-tapahtuma-tavana-pihlaja-vantaa/
LOCATION:Tavana Pihlaja\, Veturikuja 7 E\, Vantaa\, Uusimaa\, 01300\, Finland
ORGANIZER;CN="Aivovammaliitto ry":MAILTO:tiedotus@aivovammaliitto.fi
END:VEVENT
BEGIN:VEVENT
DTSTART;VALUE=DATE:20260427
DTEND;VALUE=DATE:20260501
DTSTAMP:20260422T202104
CREATED:20251211T111623Z
LAST-MODIFIED:20260401T101406Z
UID:21890-1777248000-1777593599@aivovammaliitto.fi
SUMMARY:27.-30.4.2026\, Mitä nyt? -kurssi \, Imatran kylpylä\, Imatra. Aivovammakurssi.
DESCRIPTION:Aika: 27.-30.4.2026 \nPaikka: Imatran kylpylä\, Imatra. www.imatrankylpyla.fi \nHaku: 13.3.2026 mennessä \nLinkki hakulomakkeelle \nKurssi on suunnattu aivovamman lähivuosina saaneille\, joilla vammautumisesta on kulunut vähintään vuosi. Kurssilla annetaan asiantuntijatietoa aivovammoista ja käsitellään vammautumisen merkitystä omassa elämässä. Kurssilla keskitytään vamman aiheuttamien muutosten tiedostamiseen\, sosiaalisten suhteiden aktivoimiseen ja omien voimavarojen hyödyntämiseen kuntoutumisen tukena. Kurssi antaa mahdollisuuden vaihtaa kokemuksia aivovamman jälkitilaoireista samankaltaisessa tilanteessa olevien kanssa. Kurssille voi hakea myös yhdessä läheinen kanssa.
URL:https://aivovammaliitto.fi/tapahtuma/mita-nyt-kurssi-27-30-4-2026/
LOCATION:Imatran kylpylä\, Purjekuja 2\, Imatra\, 55420
ORGANIZER;CN="Aivovammaliitto ry":MAILTO:tiedotus@aivovammaliitto.fi
END:VEVENT
END:VCALENDAR