BEGIN:VCALENDAR
VERSION:2.0
PRODID:-//Aivovammaliitto - ECPv6.15.17.1//NONSGML v1.0//EN
CALSCALE:GREGORIAN
METHOD:PUBLISH
X-WR-CALNAME:Aivovammaliitto
X-ORIGINAL-URL:https://aivovammaliitto.fi
X-WR-CALDESC:Tapahtumat Aivovammaliitto
REFRESH-INTERVAL;VALUE=DURATION:PT1H
X-Robots-Tag:noindex
X-PUBLISHED-TTL:PT1H
BEGIN:VTIMEZONE
TZID:Europe/Helsinki
BEGIN:DAYLIGHT
TZOFFSETFROM:+0200
TZOFFSETTO:+0300
TZNAME:EEST
DTSTART:20250330T010000
END:DAYLIGHT
BEGIN:STANDARD
TZOFFSETFROM:+0300
TZOFFSETTO:+0200
TZNAME:EET
DTSTART:20251026T010000
END:STANDARD
BEGIN:DAYLIGHT
TZOFFSETFROM:+0200
TZOFFSETTO:+0300
TZNAME:EEST
DTSTART:20260329T010000
END:DAYLIGHT
BEGIN:STANDARD
TZOFFSETFROM:+0300
TZOFFSETTO:+0200
TZNAME:EET
DTSTART:20261025T010000
END:STANDARD
BEGIN:DAYLIGHT
TZOFFSETFROM:+0200
TZOFFSETTO:+0300
TZNAME:EEST
DTSTART:20270328T010000
END:DAYLIGHT
BEGIN:STANDARD
TZOFFSETFROM:+0300
TZOFFSETTO:+0200
TZNAME:EET
DTSTART:20271031T010000
END:STANDARD
END:VTIMEZONE
BEGIN:VEVENT
DTSTART;VALUE=DATE:20260914
DTEND;VALUE=DATE:20260919
DTSTAMP:20260424T173526
CREATED:20251211T113050Z
LAST-MODIFIED:20260401T101036Z
UID:21900-1789344000-1789775999@aivovammaliitto.fi
SUMMARY:14.-18.9.2026\, Pariskuntien sopeutumisvalmennuskurssi  Kylpylähotelli Rauhalahti\, Kuopio. Aivovammakurssi.
DESCRIPTION:Aika: 14.-18.9.2026 \nPaikka: Kylpylähotelli Rauhalahti\, Kuopio. www.rauhalahti.fi \nHaku: 1.8.2026 mennessä \nLinkki hakulomakkeelle \nKurssi on tarkoitettu pariskunnille\, joissa toisella on aivovamma ja vammautumisesta on kulunut ainakin kaksi vuotta. Kurssilla annetaan asiantuntijatietoa aivovamman jälkitilaoireista\, käsitellään muuttuneeseen parisuhdetilanteeseen liittyviä asioita ja pyritään vahvistamaan osallistujien voimavaroja. Kurssilla vaihdetaan kokemuksia arjessa toimimisesta ja pohditaan yhdessä vammautumisen merkitystä parisuhteen kannalta. Ohjelma sisältää ohjattuja ryhmäkeskusteluja\, asiantuntijoiden alustuksia ja yhteistä toimintaa. Kurssilla ei ole mahdollisuutta pari- tai kriisiterapiaan. \nTälle kurssille tarvitset maksusitoumuksen.
URL:https://aivovammaliitto.fi/tapahtuma/pariskuntien-sopeutumisvalmennuskurssi-14-18-9-2026/
LOCATION:Kylpylähotelli Rauhalahti\, Katiskaniementie 8\, Kuopio\, 70700
ORGANIZER;CN="Aivovammaliitto ry":MAILTO:tiedotus@aivovammaliitto.fi
END:VEVENT
BEGIN:VEVENT
DTSTART;VALUE=DATE:20260922
DTEND;VALUE=DATE:20260926
DTSTAMP:20260424T173526
CREATED:20251211T112116Z
LAST-MODIFIED:20260401T100915Z
UID:21894-1790035200-1790380799@aivovammaliitto.fi
SUMMARY:22.-25.9.2026\, Parikurssi  Kylpylähotelli Rauhalahti\, Kuopio. Aivovammakurssi.
DESCRIPTION:Aika: 22.-25.9.2026 \nPaikka: Kylpylähotelli Rauhalahti\, Kuopio. www.rauhalahti.fi \nHaku: 1.8.2026 mennessä \nLinkki hakulomakkeelle \nKurssi on suunnattu pariskunnille\, joista toinen on aivovammautunut ja vammautumisesta on kulunut vähintään kolme vuotta. Kurssilla keskitytään erityisesti parisuhdeteemaan. Kurssin tavoitteena on käsitellä vammautumisen vaikutuksia parisuhteeseen\, saada uusia näkökulmia muilta samassa tilanteessa olevilta ja vahvistaa voimavaroja muuttuneessa elämäntilanteessa. Kurssi sisältää ryhmä- ja parikeskusteluja sekä toiminnallisia osuuksia.
URL:https://aivovammaliitto.fi/tapahtuma/parikurssi-22-25-9-2026/
LOCATION:Kylpylähotelli Rauhalahti\, Katiskaniementie 8\, Kuopio\, 70700
ORGANIZER;CN="Aivovammaliitto ry":MAILTO:tiedotus@aivovammaliitto.fi
END:VEVENT
END:VCALENDAR